BEGIN:VCALENDAR
VERSION:2.0
PRODID:-//www.mbta.com//Events//EN
BEGIN:VEVENT
UID:event5454@mbta.com
SEQUENCE:1631724029
DTSTAMP:20210915T164029Z
DTSTART:20210914T180000Z
DTEND:20210914T193000Z
DESCRIPTION:This event will be held virtually. A recording of the meeting 
 will be posted for those who cannot attend.
The third meeting of the Silve
 r Line Extension Alternatives Analysis Working Group will include a presen
 tation of findings from the Tier 1 analysis and a discussion of potential 
 alternatives.
The project team will be seeking feedback from the Working G
 roup.
Note to Working Group: Working Group members should not use the link
  posted on this website to join the meeting. Please follow the instruction
 s that will be emailed to Working Group members ahead of the meeting. If y
 ou have any questions, please email SLX@mbta.com.
Join the Virtual Meeting
 
Join via Zoom
Webinar ID: 815 6807 7550
Or join via telephone by dialing 
 929-205-6099
LOCATION:Virtual  Zoom  Boston, MA
SUMMARY:Silver Line Extension Alternatives Analysis Working Group Meeting 
 #3
URL:https://www.mbta.com/events/2021-09-14/silver-line-extension-alternati
 ves-analysis-working-group-meeting-3
END:VEVENT
END:VCALENDAR
